BEGIN:VCALENDAR
VERSION:2.0
PRODID:-//Spiritualité Vivante - ECPv6.0.6.2//NONSGML v1.0//EN
CALSCALE:GREGORIAN
METHOD:PUBLISH
X-ORIGINAL-URL:https://www.spiritualite-vivante.com
X-WR-CALDESC:Events for Spiritualité Vivante
REFRESH-INTERVAL;VALUE=DURATION:PT1H
X-Robots-Tag:noindex
X-PUBLISHED-TTL:PT1H
BEGIN:VTIMEZONE
TZID:Europe/Paris
BEGIN:DAYLIGHT
TZOFFSETFROM:+0100
TZOFFSETTO:+0200
TZNAME:CEST
DTSTART:20220327T010000
END:DAYLIGHT
BEGIN:STANDARD
TZOFFSETFROM:+0200
TZOFFSETTO:+0100
TZNAME:CET
DTSTART:20221030T010000
END:STANDARD
END:VTIMEZONE
BEGIN:VEVENT
DTSTART;TZID=Europe/Paris:20220119T183000
DTEND;TZID=Europe/Paris:20220119T200000
DTSTAMP:20260425T182246
CREATED:20220104T085933Z
LAST-MODIFIED:20220104T092925Z
UID:10000097-1642617000-1642622400@www.spiritualite-vivante.com
SUMMARY:Méditation à Chavagnac
DESCRIPTION:Cette méditation est proposée en petit groupe. Durée environ 1 h 30. \nMerci de vous inscrire sur cette page. \nParticipation libre et consciente sur place. \nPartagez cet évènement
URL:https://www.spiritualite-vivante.com/calendrier/meditation-a-chavagnac-21/
LOCATION:Chavagnac\, le pouch\, 24120
CATEGORIES:Méditation
ATTACH;FMTTYPE=image/png:https://www.spiritualite-vivante.com/wp-content/uploads/2020/04/meditation-redi.png
ORGANIZER;CN="Rapha%C3%ABl%20Jacquelin":MAILTO:raphael@spiritualite-vivante.com
END:VEVENT
END:VCALENDAR