BEGIN:VCALENDAR
VERSION:2.0
PRODID:-//Spiritualité Vivante - ECPv6.0.6.2//NONSGML v1.0//EN
CALSCALE:GREGORIAN
METHOD:PUBLISH
X-WR-CALNAME:Spiritualité Vivante
X-ORIGINAL-URL:https://www.spiritualite-vivante.com
X-WR-CALDESC:Events for Spiritualité Vivante
REFRESH-INTERVAL;VALUE=DURATION:PT1H
X-Robots-Tag:noindex
X-PUBLISHED-TTL:PT1H
BEGIN:VTIMEZONE
TZID:UTC
BEGIN:STANDARD
TZOFFSETFROM:+0000
TZOFFSETTO:+0000
TZNAME:UTC
DTSTART:20230101T000000
END:STANDARD
END:VTIMEZONE
BEGIN:VEVENT
DTSTART;TZID=UTC:20230110T100000
DTEND;TZID=UTC:20230110T120000
DTSTAMP:20260424T224446
CREATED:20230103T105857Z
LAST-MODIFIED:20230103T105857Z
UID:10000144-1673344800-1673352000@www.spiritualite-vivante.com
SUMMARY:Méditation/Rencontre au centre Holistic
DESCRIPTION:Cette méditation/rencontre se déroule en petit groupe dans le premier cabinet à gauche en rentrant dans le centre. \nJe propose une méditation guidée enseignante qui prend appui sur notre réalité de l’instant. \nL’adresse est le 1bis avenue de la bastille\, 19100 Brive la Gaillarde. \nDurée environ 2 h. \nMerci de vous inscrire sur cette page\, les places sont limitées par la surface de la pièce. \nIl vous est demandé de venir avec votre assise (coussin\, tapis ou autre). \nParticipation libre et consciente sur place. \nPartagez cet évènement
URL:https://www.spiritualite-vivante.com/calendrier/meditation-rencontre-au-centre-holistic/
LOCATION:Centre Holistic\, 1bis avenue de la bastille\, Brive la gaillarde\, 19100\, France
CATEGORIES:Méditation,Satsang
ATTACH;FMTTYPE=image/png:https://www.spiritualite-vivante.com/wp-content/uploads/2022/10/crider-cares-environment-shutterstock-154639625.png
ORGANIZER;CN="Rapha%C3%ABl%20Jacquelin":MAILTO:raphael@spiritualite-vivante.com
END:VEVENT
END:VCALENDAR