BEGIN:VCALENDAR
VERSION:2.0
PRODID:-//Spiritualité Vivante - ECPv6.0.6.2//NONSGML v1.0//EN
CALSCALE:GREGORIAN
METHOD:PUBLISH
X-WR-CALNAME:Spiritualité Vivante
X-ORIGINAL-URL:https://www.spiritualite-vivante.com
X-WR-CALDESC:Events for Spiritualité Vivante
REFRESH-INTERVAL;VALUE=DURATION:PT1H
X-Robots-Tag:noindex
X-PUBLISHED-TTL:PT1H
BEGIN:VTIMEZONE
TZID:Europe/Paris
BEGIN:DAYLIGHT
TZOFFSETFROM:+0100
TZOFFSETTO:+0200
TZNAME:CEST
DTSTART:20230326T010000
END:DAYLIGHT
BEGIN:STANDARD
TZOFFSETFROM:+0200
TZOFFSETTO:+0100
TZNAME:CET
DTSTART:20231029T010000
END:STANDARD
END:VTIMEZONE
BEGIN:VEVENT
DTSTART;TZID=Europe/Paris:20230409T100000
DTEND;TZID=Europe/Paris:20230409T120000
DTSTAMP:20260424T174451
CREATED:20230331T091936Z
LAST-MODIFIED:20230331T091936Z
UID:10000166-1681034400-1681041600@www.spiritualite-vivante.com
SUMMARY:Méditation-Rencontre à Chavagnac - Pâques
DESCRIPTION:Cette méditation-rencontre est proposée en ce jour de Pâques. Durée 2 heures. \nMerci de vous inscrire sur cette page. \nParticipation libre et consciente sur place. \nPartagez cet évènement
URL:https://www.spiritualite-vivante.com/calendrier/meditation-rencontre-a-chavagnac-paques/
LOCATION:Chavagnac\, le pouch\, 24120
CATEGORIES:Méditation,Satsang
ATTACH;FMTTYPE=image/png:https://www.spiritualite-vivante.com/wp-content/uploads/2020/11/imageonline-co-resizedimage-28.png
ORGANIZER;CN="Rapha%C3%ABl%20Jacquelin":MAILTO:raphael@spiritualite-vivante.com
END:VEVENT
END:VCALENDAR