BEGIN:VCALENDAR
VERSION:2.0
PRODID:-//Spiritualité Vivante - ECPv6.0.6.2//NONSGML v1.0//EN
CALSCALE:GREGORIAN
METHOD:PUBLISH
X-WR-CALNAME:Spiritualité Vivante
X-ORIGINAL-URL:https://www.spiritualite-vivante.com
X-WR-CALDESC:Events for Spiritualité Vivante
REFRESH-INTERVAL;VALUE=DURATION:PT1H
X-Robots-Tag:noindex
X-PUBLISHED-TTL:PT1H
BEGIN:VTIMEZONE
TZID:Europe/Paris
BEGIN:DAYLIGHT
TZOFFSETFROM:+0100
TZOFFSETTO:+0200
TZNAME:CEST
DTSTART:20230326T010000
END:DAYLIGHT
BEGIN:STANDARD
TZOFFSETFROM:+0200
TZOFFSETTO:+0100
TZNAME:CET
DTSTART:20231029T010000
END:STANDARD
END:VTIMEZONE
BEGIN:VEVENT
DTSTART;TZID=Europe/Paris:20230508T100000
DTEND;TZID=Europe/Paris:20230508T120000
DTSTAMP:20260424T160315
CREATED:20230504T103212Z
LAST-MODIFIED:20230504T103252Z
UID:10000167-1683540000-1683547200@www.spiritualite-vivante.com
SUMMARY:Méditation-Rencontre spirituelle
DESCRIPTION:Devenir Vivant est la tâche essentielle qui nous incombe. Depuis des millénaires les enseignements spirituels sont source de promesse d’un bonheur inconditionnel\, de l’expérience de l’Amour sans frein. \nLa question qui se pose est : comment s’y prendre ? \nL’enseignement proposé ici est une pratique vivante\, prenant appui sur la réalité de notre vécu actuel. C’est une invitation directe\, une compréhension par l’expérience de ce dont il s’agit. Car oui\, se faire une idée et le vivre sont des points de vues complètements différents. \nPratiquer\, c’est Être. \nLa journée est articulée autour du groupe formé\, traditionnellement amorcée par une méditation guidée\, et enrichie par les échanges et les lectures. \nVenez comme vous êtes\, c’est le point de départ ! \nMerci de vous inscrire sur cette page. \nLe règlement s’effectue sur place. Donation libre et consciente. \nPartagez cet évènement
URL:https://www.spiritualite-vivante.com/calendrier/meditation-rencontre-spirituelle/
LOCATION:Chavagnac\, le pouch\, 24120
CATEGORIES:Méditation,Satsang
ATTACH;FMTTYPE=image/png:https://www.spiritualite-vivante.com/wp-content/uploads/2023/04/bouddha-biais.png
ORGANIZER;CN="Rapha%C3%ABl%20Jacquelin":MAILTO:raphael@spiritualite-vivante.com
END:VEVENT
BEGIN:VEVENT
DTSTART;TZID=Europe/Paris:20230531T183000
DTEND;TZID=Europe/Paris:20230531T203000
DTSTAMP:20260424T160315
CREATED:20230524T135308Z
LAST-MODIFIED:20230524T135308Z
UID:10000170-1685557800-1685565000@www.spiritualite-vivante.com
SUMMARY:Rencontre-Satsang en visioconférence
DESCRIPTION:Devenir Vivant est la tâche essentielle qui nous incombe. Depuis des millénaires les enseignements spirituels sont source de promesse d’un bonheur inconditionnel\, de l’expérience de l’Amour sans frein. \nLa question qui se pose est : comment s’y prendre ? \nL’enseignement proposé ici est une pratique vivante\, prenant appui sur la réalité de notre vécu actuel. C’est une invitation directe\, une compréhension par l’expérience de ce dont il s’agit. Car oui\, se faire une idée et le vivre sont des points de vues complètements différents. \nCe Satsang est proposé en vidéoconférence sur le support zoom. Durée environ 2 heure. Il est proposé en première partie une méditation guidée\, suivie d’échanges invitant à l’expérience directe. \nPour plus de renseignements sur ce qu’est un satsang\, cliquez-ici. \nMerci d’effectuer votre inscription sur cette page. \nUn mail de confirmation d’inscription contenant le lien de connexion vous est envoyé suite à votre inscription. Merci de vérifier vos spam dans le cas où vous ne la recevez pas dans votre boite mail. \nPartagez cet évènement
URL:https://www.spiritualite-vivante.com/calendrier/rencontre-satsang-en-visioconference-3/
LOCATION:Évènement en visioconférence
CATEGORIES:Méditation,Satsang
ATTACH;FMTTYPE=image/jpeg:https://www.spiritualite-vivante.com/wp-content/uploads/2020/05/img_2811-scaled-e1684936364834.jpg
ORGANIZER;CN="Rapha%C3%ABl%20Jacquelin":MAILTO:raphael@spiritualite-vivante.com
END:VEVENT
END:VCALENDAR