BEGIN:VCALENDAR
VERSION:2.0
PRODID:-//Spiritualité Vivante - ECPv6.0.6.2//NONSGML v1.0//EN
CALSCALE:GREGORIAN
METHOD:PUBLISH
X-WR-CALNAME:Spiritualité Vivante
X-ORIGINAL-URL:https://www.spiritualite-vivante.com
X-WR-CALDESC:Events for Spiritualité Vivante
REFRESH-INTERVAL;VALUE=DURATION:PT1H
X-Robots-Tag:noindex
X-PUBLISHED-TTL:PT1H
BEGIN:VTIMEZONE
TZID:Europe/Paris
BEGIN:DAYLIGHT
TZOFFSETFROM:+0100
TZOFFSETTO:+0200
TZNAME:CEST
DTSTART:20230326T010000
END:DAYLIGHT
BEGIN:STANDARD
TZOFFSETFROM:+0200
TZOFFSETTO:+0100
TZNAME:CET
DTSTART:20231029T010000
END:STANDARD
END:VTIMEZONE
BEGIN:VEVENT
DTSTART;TZID=Europe/Paris:20230606T180000
DTEND;TZID=Europe/Paris:20230606T190000
DTSTAMP:20260424T155407
CREATED:20230524T135721Z
LAST-MODIFIED:20230606T114153Z
UID:10000171-1686074400-1686078000@www.spiritualite-vivante.com
SUMMARY:Méditation à Brive-Centre Holistic
DESCRIPTION:Devenir Vivant est la tâche essentielle qui nous incombe. Depuis des millénaires les enseignements spirituels sont source de promesse d’un bonheur inconditionnel\, de l’expérience de l’Amour sans frein. \nLa question qui se pose est : comment s’y prendre ? \nL’enseignement proposé ici est une pratique vivante\, prenant appui sur la réalité de notre vécu actuel. C’est une invitation directe\, une compréhension par l’expérience de ce dont il s’agit. Car oui\, se faire une idée et le vivre sont des points de vues complètements différents. \nCette méditation est proposée en petit groupe dans le premier cabinet à gauche en rentrant dans le centre. \nL’adresse est le 1bis avenue de la bastille\, 19100 Brive la Gaillarde. \nDurée environ 1 h. \nMerci de vous inscrire sur cette page\, les places sont limitées par la surface de la pièce. \nIl vous est demandé de venir avec votre assise (coussin\, tapis ou autre). \nParticipation libre et consciente sur place. \nPartagez cet évènement
URL:https://www.spiritualite-vivante.com/calendrier/meditation-a-brive-centre-holistic/
LOCATION:Centre Holistic\, 1bis avenue de la bastille\, Brive la gaillarde\, 19100\, France
CATEGORIES:Méditation
ATTACH;FMTTYPE=image/png:https://www.spiritualite-vivante.com/wp-content/uploads/2023/04/bouddha-face.png
ORGANIZER;CN="Rapha%C3%ABl%20Jacquelin":MAILTO:raphael@spiritualite-vivante.com
END:VEVENT
END:VCALENDAR