BEGIN:VCALENDAR
VERSION:2.0
PRODID:-//Spiritualité Vivante - ECPv6.0.6.2//NONSGML v1.0//EN
CALSCALE:GREGORIAN
METHOD:PUBLISH
X-WR-CALNAME:Spiritualité Vivante
X-ORIGINAL-URL:https://www.spiritualite-vivante.com
X-WR-CALDESC:Events for Spiritualité Vivante
REFRESH-INTERVAL;VALUE=DURATION:PT1H
X-Robots-Tag:noindex
X-PUBLISHED-TTL:PT1H
BEGIN:VTIMEZONE
TZID:Europe/Paris
BEGIN:DAYLIGHT
TZOFFSETFROM:+0100
TZOFFSETTO:+0200
TZNAME:CEST
DTSTART:20230326T010000
END:DAYLIGHT
BEGIN:STANDARD
TZOFFSETFROM:+0200
TZOFFSETTO:+0100
TZNAME:CET
DTSTART:20231029T010000
END:STANDARD
END:VTIMEZONE
BEGIN:VEVENT
DTSTART;TZID=Europe/Paris:20230625T100000
DTEND;TZID=Europe/Paris:20230625T170000
DTSTAMP:20260424T155159
CREATED:20230605T132951Z
LAST-MODIFIED:20230605T133043Z
UID:10000173-1687687200-1687712400@www.spiritualite-vivante.com
SUMMARY:Rencontre au coeur du vivant le 25 juin
DESCRIPTION:Devenir Vivant est la tâche essentielle qui nous incombe. Depuis des millénaires les enseignements spirituels sont source de promesse d’un bonheur inconditionnel\, de l’expérience de l’Amour sans frein. \nLa question qui se pose est : comment s’y prendre ? \nL’enseignement proposé ici est une pratique vivante\, prenant appui sur la réalité de notre vécu actuel. C’est une invitation directe\, une compréhension par l’expérience de ce dont il s’agit. Car oui\, se faire une idée et le vivre sont des points de vues complètements différents. \nCe Satsang est proposé en petit groupe sur la journée\, auberge espagnole le midi. \nPour plus de renseignements sur ce qu’est un satsang\, cliquez-ici. \nMerci de vous inscrire sur cette page. \nLa participation est libre et consciente\, le règlement s’effectue sur place. \nPartagez cet évènement
URL:https://www.spiritualite-vivante.com/calendrier/rencontre-au-coeur-du-vivant-le-25-juin/
LOCATION:Chavagnac\, le pouch\, 24120
CATEGORIES:Évènements particuliers,Méditation,Satsang
ATTACH;FMTTYPE=image/png:https://www.spiritualite-vivante.com/wp-content/uploads/2020/04/retraite-redi.png
ORGANIZER;CN="Rapha%C3%ABl%20Jacquelin":MAILTO:raphael@spiritualite-vivante.com
END:VEVENT
END:VCALENDAR