BEGIN:VCALENDAR
VERSION:2.0
PRODID:-//Spiritualité Vivante - ECPv6.0.6.2//NONSGML v1.0//EN
CALSCALE:GREGORIAN
METHOD:PUBLISH
X-ORIGINAL-URL:https://www.spiritualite-vivante.com
X-WR-CALDESC:Events for Spiritualité Vivante
REFRESH-INTERVAL;VALUE=DURATION:PT1H
X-Robots-Tag:noindex
X-PUBLISHED-TTL:PT1H
BEGIN:VTIMEZONE
TZID:Europe/Paris
BEGIN:DAYLIGHT
TZOFFSETFROM:+0100
TZOFFSETTO:+0200
TZNAME:CEST
DTSTART:20240331T010000
END:DAYLIGHT
BEGIN:STANDARD
TZOFFSETFROM:+0200
TZOFFSETTO:+0100
TZNAME:CET
DTSTART:20241027T010000
END:STANDARD
END:VTIMEZONE
BEGIN:VEVENT
DTSTART;TZID=Europe/Paris:20240409T190000
DTEND;TZID=Europe/Paris:20240409T210000
DTSTAMP:20260425T183637
CREATED:20240328T174644Z
LAST-MODIFIED:20240328T174644Z
UID:10000187-1712689200-1712696400@www.spiritualite-vivante.com
SUMMARY:Rencontre au coeur du vivant en visioconférence - mardi 9 avril
DESCRIPTION:Devenir Vivant est la tâche essentielle qui nous incombe. Depuis des millénaires les enseignements spirituels sont source de promesse d’un bonheur inconditionnel\, de l’expérience de l’Amour sans frein. \nLa question qui se pose est : comment s’y prendre ? \nL’enseignement proposé ici est une pratique vivante\, prenant appui sur la réalité de notre vécu actuel. C’est une invitation directe\, une compréhension par l’expérience de ce dont il s’agit. Car oui\, se faire une idée et le vivre sont des points de vues complètements différents. \nCe Satsang est proposé en vidéoconférence sur le support zoom. Durée environ 2 heure. Il est proposé en première partie une méditation guidée\, suivie d’échanges invitant à l’expérience directe. \nPour plus de renseignements sur ce qu’est un satsang\, cliquez-ici. \nMerci d’effectuer votre inscription sur cette page. \nUn mail de confirmation d’inscription contenant le lien de connexion vous est envoyé suite à votre inscription. Merci de vérifier vos spam dans le cas où vous ne la recevez pas dans votre boite mail. \nPartagez cet évènement
URL:https://www.spiritualite-vivante.com/calendrier/rencontre-au-coeur-du-vivant-en-visioconference-mardi-9-avril/
LOCATION:Évènement en visioconférence
CATEGORIES:Satsang
ATTACH;FMTTYPE=image/jpeg:https://www.spiritualite-vivante.com/wp-content/uploads/2022/10/68547550-1394678857362558-3010802770627264512-n.jpg
ORGANIZER;CN="Rapha%C3%ABl%20Jacquelin":MAILTO:raphael@spiritualite-vivante.com
END:VEVENT
BEGIN:VEVENT
DTSTART;TZID=Europe/Paris:20240414T140000
DTEND;TZID=Europe/Paris:20240414T180000
DTSTAMP:20260425T183637
CREATED:20240328T175022Z
LAST-MODIFIED:20240328T175022Z
UID:10000188-1713103200-1713117600@www.spiritualite-vivante.com
SUMMARY:Rencontre en présence à Chavagnac le dimanche 14 avril
DESCRIPTION:Devenir Vivant est la tâche essentielle qui nous incombe. Depuis des millénaires les enseignements spirituels sont source de promesse d’un bonheur inconditionnel\, de l’expérience de l’Amour sans frein. \nLa question qui se pose est : comment s’y prendre ? \nL’enseignement proposé ici est une pratique vivante\, prenant appui sur la réalité de notre vécu actuel. C’est une invitation directe\, une compréhension par l’expérience de ce dont il s’agit. Car oui\, se faire une idée et le vivre sont des points de vues complètements différents. \nCe Satsang est proposé en petit groupe. Durée environ 4 h. \nPour plus de renseignements sur ce qu’est un satsang\, cliquez-ici. \nMerci de vous inscrire sur cette page. \nLe règlement s’effectue sur place. \nPartagez cet évènement
URL:https://www.spiritualite-vivante.com/calendrier/rencontre-en-presence-a-chavagnac-le-dimanche-14-avril/
LOCATION:Chavagnac\, le pouch\, 24120
CATEGORIES:Satsang
ATTACH;FMTTYPE=image/png:https://www.spiritualite-vivante.com/wp-content/uploads/2022/10/harmonie2-1200x750-1.png
ORGANIZER;CN="Rapha%C3%ABl%20Jacquelin":MAILTO:raphael@spiritualite-vivante.com
END:VEVENT
END:VCALENDAR