BEGIN:VCALENDAR
VERSION:2.0
PRODID:-//Spiritualité Vivante - ECPv6.0.6.2//NONSGML v1.0//EN
CALSCALE:GREGORIAN
METHOD:PUBLISH
X-WR-CALNAME:Spiritualité Vivante
X-ORIGINAL-URL:https://www.spiritualite-vivante.com
X-WR-CALDESC:Events for Spiritualité Vivante
REFRESH-INTERVAL;VALUE=DURATION:PT1H
X-Robots-Tag:noindex
X-PUBLISHED-TTL:PT1H
BEGIN:VTIMEZONE
TZID:Europe/Paris
BEGIN:DAYLIGHT
TZOFFSETFROM:+0100
TZOFFSETTO:+0200
TZNAME:CEST
DTSTART:20240331T010000
END:DAYLIGHT
BEGIN:STANDARD
TZOFFSETFROM:+0200
TZOFFSETTO:+0100
TZNAME:CET
DTSTART:20241027T010000
END:STANDARD
END:VTIMEZONE
BEGIN:VEVENT
DTSTART;TZID=Europe/Paris:20240623T140000
DTEND;TZID=Europe/Paris:20240623T180000
DTSTAMP:20260425T165125
CREATED:20240619T081100Z
LAST-MODIFIED:20240619T081100Z
UID:10000190-1719151200-1719165600@www.spiritualite-vivante.com
SUMMARY:Rencontre méditative-Satsang ce dimanche 23 juin
DESCRIPTION:Devenir Vivant est la tâche essentielle qui nous incombe. Depuis des millénaires les enseignements spirituels sont source de promesse d’un bonheur inconditionnel\, de l’expérience de l’Amour sans frein. \nLa question qui se pose est : comment s’y prendre ? \nL’enseignement proposé ici est une pratique vivante\, prenant appui sur la réalité de notre vécu actuel. C’est une invitation directe\, une compréhension par l’expérience de ce dont il s’agit. Car oui\, se faire une idée et le vivre sont des points de vues complètements différents. \nCe Satsang est proposé en petit groupe. Durée environ 4 h. \nPour plus de renseignements sur ce qu’est un satsang\, cliquez-ici. \nMerci de vous inscrire sur cette page. \nLe règlement s’effectue sur place. \nPartagez cet évènement
URL:https://www.spiritualite-vivante.com/calendrier/rencontre-meditative-satsang-ce-dimanche-23-juin/
LOCATION:Chavagnac\, le pouch\, 24120
CATEGORIES:Évènements particuliers,Satsang
ATTACH;FMTTYPE=image/png:https://www.spiritualite-vivante.com/wp-content/uploads/2023/04/muddra.png
ORGANIZER;CN="Rapha%C3%ABl%20Jacquelin":MAILTO:raphael@spiritualite-vivante.com
END:VEVENT
END:VCALENDAR