BEGIN:VCALENDAR
VERSION:2.0
PRODID:-//Spiritualité Vivante - ECPv6.0.6.2//NONSGML v1.0//EN
CALSCALE:GREGORIAN
METHOD:PUBLISH
X-ORIGINAL-URL:https://www.spiritualite-vivante.com
X-WR-CALDESC:Events for Spiritualité Vivante
REFRESH-INTERVAL;VALUE=DURATION:PT1H
X-Robots-Tag:noindex
X-PUBLISHED-TTL:PT1H
BEGIN:VTIMEZONE
TZID:Europe/Paris
BEGIN:DAYLIGHT
TZOFFSETFROM:+0100
TZOFFSETTO:+0200
TZNAME:CEST
DTSTART:20250330T010000
END:DAYLIGHT
BEGIN:STANDARD
TZOFFSETFROM:+0200
TZOFFSETTO:+0100
TZNAME:CET
DTSTART:20251026T010000
END:STANDARD
END:VTIMEZONE
BEGIN:VEVENT
DTSTART;TZID=Europe/Paris:20250509T190000
DTEND;TZID=Europe/Paris:20250509T203000
DTSTAMP:20260420T163755
CREATED:20250429T200603Z
LAST-MODIFIED:20250429T200649Z
UID:10000199-1746817200-1746822600@www.spiritualite-vivante.com
SUMMARY:Satsang-Rencontre en visioconférence
DESCRIPTION:Devenir Vivant est la tâche essentielle qui nous incombe. Depuis des millénaires les enseignements spirituels sont source de promesse d’un bonheur inconditionnel\, de l’expérience de l’Amour sans frein. \nLa question qui se pose est : comment s’y prendre ? \nL’enseignement proposé ici est une pratique vivante\, prenant appui sur la réalité de notre vécu actuel. C’est une invitation directe\, une compréhension par l’expérience de ce dont il s’agit. Car oui\, se faire une idée et le vivre sont des points de vues complètements différents. \nCe Satsang est proposé en vidéoconférence sur le support zoom. Durée environ 2 heure. Il est proposé en première partie une méditation guidée\, suivie d’échanges invitant à l’expérience directe. \nPour plus de renseignements sur ce qu’est un satsang\, cliquez-ici. \nMerci d’effectuer votre inscription sur cette page. \nUn mail de confirmation d’inscription contenant le lien de connexion vous est envoyé suite à votre inscription. Merci de vérifier vos spam dans le cas où vous ne la recevez pas dans votre boite mail. \nPartagez cet évènement
URL:https://www.spiritualite-vivante.com/calendrier/satsang-rencontre-en-visioconference-2/
LOCATION:Évènement en visioconférence
CATEGORIES:Évènements particuliers,Méditation,Satsang
ATTACH;FMTTYPE=image/png:https://www.spiritualite-vivante.com/wp-content/uploads/2023/04/main-bouddha.png
ORGANIZER;CN="Rapha%C3%ABl%20Jacquelin":MAILTO:raphael@spiritualite-vivante.com
END:VEVENT
BEGIN:VEVENT
DTSTART;TZID=Europe/Paris:20250511T140000
DTEND;TZID=Europe/Paris:20250511T173000
DTSTAMP:20260420T163755
CREATED:20250429T201900Z
LAST-MODIFIED:20250429T201949Z
UID:10000200-1746972000-1746984600@www.spiritualite-vivante.com
SUMMARY:Rencontre-Satsang à Chavagnac
DESCRIPTION:Devenir Vivant est la tâche essentielle qui nous incombe. Depuis des millénaires les enseignements spirituels sont source de promesse d’un bonheur inconditionnel\, de l’expérience de l’Amour sans frein. \nLa question qui se pose est : comment s’y prendre ? \nL’enseignement proposé ici est une pratique vivante\, prenant appui sur la réalité de notre vécu actuel. C’est une invitation directe\, une compréhension par l’expérience de ce dont il s’agit. Car oui\, se faire une idée et le vivre sont des points de vues complètements différents. \nCe Satsang est proposé en petit groupe. Durée environ 4 h. \nPour plus de renseignements sur ce qu’est un satsang\, cliquez-ici. \nJe vous remercie de vous inscrire sur cette page au plus tôt pour aider à l’organisation de l’évènement. \nEn ce sens et sauf exception\, les inscriptions seront clôturées le 8 mai fin de journée. \nLe règlement s’effectue sur place. \nGratitude de ce partage 🙏🏻 \nPartagez cet évènement
URL:https://www.spiritualite-vivante.com/calendrier/rencontre-satsang-a-chavagnac-2/
LOCATION:Chavagnac\, le pouch\, 24120
CATEGORIES:Évènements particuliers,Méditation,Satsang
ATTACH;FMTTYPE=image/jpeg:https://www.spiritualite-vivante.com/wp-content/uploads/2023/04/invitation-du-jour-13-e1682269965229.jpeg
ORGANIZER;CN="Rapha%C3%ABl%20Jacquelin":MAILTO:raphael@spiritualite-vivante.com
END:VEVENT
END:VCALENDAR