BEGIN:VCALENDAR
VERSION:2.0
PRODID:-//Spiritualité Vivante - ECPv6.0.6.2//NONSGML v1.0//EN
CALSCALE:GREGORIAN
METHOD:PUBLISH
X-WR-CALNAME:Spiritualité Vivante
X-ORIGINAL-URL:https://www.spiritualite-vivante.com
X-WR-CALDESC:Events for Spiritualité Vivante
REFRESH-INTERVAL;VALUE=DURATION:PT1H
X-Robots-Tag:noindex
X-PUBLISHED-TTL:PT1H
BEGIN:VTIMEZONE
TZID:Europe/Paris
BEGIN:DAYLIGHT
TZOFFSETFROM:+0100
TZOFFSETTO:+0200
TZNAME:CEST
DTSTART:20200329T010000
END:DAYLIGHT
BEGIN:STANDARD
TZOFFSETFROM:+0200
TZOFFSETTO:+0100
TZNAME:CET
DTSTART:20201025T010000
END:STANDARD
END:VTIMEZONE
BEGIN:VEVENT
DTSTART;TZID=Europe/Paris:20201018T140000
DTEND;TZID=Europe/Paris:20201018T180000
DTSTAMP:20260423T064802
CREATED:20201007T164111Z
LAST-MODIFIED:20201007T164621Z
UID:10000028-1603029600-1603044000@www.spiritualite-vivante.com
SUMMARY:Satsang à Chavagnac
DESCRIPTION:Ce Satsang est proposé en petit groupe. Durée environ 4 h. \nPour plus de renseignements sur ce qu’est un satsang\, cliquez-ici. \nMerci de vous inscrire sur cette page. \nLe règlement s’effectue sur place. \nPartagez cet évènement
URL:https://www.spiritualite-vivante.com/calendrier/satsang-a-chavagnac-6/
LOCATION:Chavagnac\, le pouch\, 24120
CATEGORIES:Satsang
ATTACH;FMTTYPE=image/png:https://www.spiritualite-vivante.com/wp-content/uploads/2020/05/imageonline-co-resizedimage-91.png
ORGANIZER;CN="Rapha%C3%ABl%20Jacquelin":MAILTO:raphael@spiritualite-vivante.com
END:VEVENT
BEGIN:VEVENT
DTSTART;TZID=Europe/Paris:20201016T183000
DTEND;TZID=Europe/Paris:20201016T200000
DTSTAMP:20260423T064802
CREATED:20201007T164930Z
LAST-MODIFIED:20201007T164930Z
UID:10000029-1602873000-1602878400@www.spiritualite-vivante.com
SUMMARY:Méditation à Chavagnac
DESCRIPTION:Cette méditation est proposée en petit groupe. Durée environ 1 h 30. \nMerci de vous inscrire sur cette page. \nParticipation libre et consciente sur place. \nPartagez cet évènement
URL:https://www.spiritualite-vivante.com/calendrier/meditation-a-chavagnac-12/
LOCATION:Chavagnac\, le pouch\, 24120
CATEGORIES:Méditation
ATTACH;FMTTYPE=image/png:https://www.spiritualite-vivante.com/wp-content/uploads/2020/05/imageonline-co-resizedimage-99.png
ORGANIZER;CN="Rapha%C3%ABl%20Jacquelin":MAILTO:raphael@spiritualite-vivante.com
END:VEVENT
BEGIN:VEVENT
DTSTART;TZID=Europe/Paris:20201014T183000
DTEND;TZID=Europe/Paris:20201014T200000
DTSTAMP:20260423T064802
CREATED:20201007T163855Z
LAST-MODIFIED:20201007T163855Z
UID:10000027-1602700200-1602705600@www.spiritualite-vivante.com
SUMMARY:Méditation à Chavagnac
DESCRIPTION:Cette méditation est proposée en petit groupe. Durée environ 1 h 30. \nMerci de vous inscrire sur cette page. \nParticipation libre et consciente sur place. \nPartagez cet évènement
URL:https://www.spiritualite-vivante.com/calendrier/meditation-a-chavagnac-11/
LOCATION:Chavagnac\, le pouch\, 24120
CATEGORIES:Méditation
ATTACH;FMTTYPE=image/png:https://www.spiritualite-vivante.com/wp-content/uploads/2020/05/imageonline-co-resizedimage-81.png
ORGANIZER;CN="Rapha%C3%ABl%20Jacquelin":MAILTO:raphael@spiritualite-vivante.com
END:VEVENT
BEGIN:VEVENT
DTSTART;TZID=Europe/Paris:20201013T183000
DTEND;TZID=Europe/Paris:20201013T203000
DTSTAMP:20260423T064802
CREATED:20201007T163623Z
LAST-MODIFIED:20201007T163916Z
UID:10000026-1602613800-1602621000@www.spiritualite-vivante.com
SUMMARY:Satsang en vidéoconférence
DESCRIPTION:Ce Satsang est proposée en vidéoconférence sur le support zoom. Durée environ 2 heure. \nMerci d’effectuer votre inscription sur cette page. \nUn mail de confirmation d’inscription contenant le lien de connexion vous est envoyé suite à votre inscription. Merci de vérifier vos spam dans le cas où vous ne la recevez pas dans votre boite mail. \nPartagez cet évènement
URL:https://www.spiritualite-vivante.com/calendrier/satsang-en-videoconference-6/
LOCATION:Évènement en visioconférence
CATEGORIES:Satsang
ATTACH;FMTTYPE=image/png:https://www.spiritualite-vivante.com/wp-content/uploads/2020/05/imageonline-co-resizedimage-4.png
ORGANIZER;CN="Rapha%C3%ABl%20Jacquelin":MAILTO:raphael@spiritualite-vivante.com
END:VEVENT
BEGIN:VEVENT
DTSTART;TZID=Europe/Paris:20201001T190000
DTEND;TZID=Europe/Paris:20201004T170000
DTSTAMP:20260423T064802
CREATED:20200829T065524Z
LAST-MODIFIED:20200829T071741Z
UID:10000039-1601578800-1601830800@www.spiritualite-vivante.com
SUMMARY:Retraite à Chavagnac de 3 jours
DESCRIPTION:Retraite en petit groupe. \nInscription sur cette page. Les modalités vous seront transmises par mail. \nPour me joindre pour tout renseignement complémentaire : \nContactPartagez cet évènement
URL:https://www.spiritualite-vivante.com/calendrier/retraite-a-chavagnac-de-3-jours-2/
LOCATION:Chavagnac\, le pouch\, 24120
CATEGORIES:Retraite spirituelle en Dordogne
ATTACH;FMTTYPE=image/png:https://www.spiritualite-vivante.com/wp-content/uploads/2020/05/imageonline-co-resizedimage-102.png
ORGANIZER;CN="Rapha%C3%ABl%20Jacquelin":MAILTO:raphael@spiritualite-vivante.com
END:VEVENT
BEGIN:VEVENT
DTSTART;TZID=Europe/Paris:20200915T183000
DTEND;TZID=Europe/Paris:20200915T203000
DTSTAMP:20260423T064802
CREATED:20200829T071142Z
LAST-MODIFIED:20200829T071656Z
UID:10000033-1600194600-1600201800@www.spiritualite-vivante.com
SUMMARY:Satsang en vidéoconférence
DESCRIPTION:Ce Satsang est proposée en vidéoconférence sur le support zoom. Durée environ 2 heure. \nMerci d’effectuer votre inscription sur cette page. \nUn mail de confirmation d’inscription contenant le lien de connexion vous est envoyé suite à votre inscription. Merci de vérifier vos spam dans le cas où vous ne la recevez pas dans votre boite mail. \nPartagez cet évènement
URL:https://www.spiritualite-vivante.com/calendrier/satsang-en-videoconference-5/
LOCATION:Évènement en visioconférence
CATEGORIES:Satsang
ATTACH;FMTTYPE=image/png:https://www.spiritualite-vivante.com/wp-content/uploads/2020/05/imageonline-co-resizedimage-99.png
ORGANIZER;CN="Rapha%C3%ABl%20Jacquelin":MAILTO:raphael@spiritualite-vivante.com
END:VEVENT
BEGIN:VEVENT
DTSTART;TZID=Europe/Paris:20200913T140000
DTEND;TZID=Europe/Paris:20200913T180000
DTSTAMP:20260423T064802
CREATED:20200829T065929Z
LAST-MODIFIED:20200829T071618Z
UID:10000031-1600005600-1600020000@www.spiritualite-vivante.com
SUMMARY:Satsang à Chavagnac
DESCRIPTION:Ce Satsang est proposé en petit groupe. Durée environ 4 h. \nMerci de vous inscrire sur cette page. \nLe règlement s’effectue sur place. \nPartagez cet évènement
URL:https://www.spiritualite-vivante.com/calendrier/satsang-a-chavagnac-5/
LOCATION:Chavagnac\, le pouch\, 24120
CATEGORIES:Satsang
ATTACH;FMTTYPE=image/png:https://www.spiritualite-vivante.com/wp-content/uploads/2020/05/imageonline-co-resizedimage-85.png
ORGANIZER;CN="Rapha%C3%ABl%20Jacquelin":MAILTO:raphael@spiritualite-vivante.com
END:VEVENT
BEGIN:VEVENT
DTSTART;TZID=Europe/Paris:20200908T183000
DTEND;TZID=Europe/Paris:20200908T200000
DTSTAMP:20260423T064802
CREATED:20200829T071354Z
LAST-MODIFIED:20200829T071544Z
UID:10000034-1599589800-1599595200@www.spiritualite-vivante.com
SUMMARY:Méditation à Chavagnac
DESCRIPTION:Cette méditation est proposée en petit groupe. Durée environ 1 h 30. \nMerci de vous inscrire sur cette page. \nParticipation libre et consciente sur place. \nPartagez cet évènement
URL:https://www.spiritualite-vivante.com/calendrier/meditation-a-chavagnac-10/
LOCATION:Chavagnac\, le pouch\, 24120
CATEGORIES:Méditation
ATTACH;FMTTYPE=image/png:https://www.spiritualite-vivante.com/wp-content/uploads/2020/05/imageonline-co-resizedimage-93.png
ORGANIZER;CN="Rapha%C3%ABl%20Jacquelin":MAILTO:raphael@spiritualite-vivante.com
END:VEVENT
BEGIN:VEVENT
DTSTART;TZID=Europe/Paris:20200902T183000
DTEND;TZID=Europe/Paris:20200902T200000
DTSTAMP:20260423T064802
CREATED:20200829T070405Z
LAST-MODIFIED:20200902T142255Z
UID:10000032-1599071400-1599076800@www.spiritualite-vivante.com
SUMMARY:Méditation à Chavagnac
DESCRIPTION:Cette méditation est proposée en petit groupe. Durée environ 1 h 30. \nMerci de vous inscrire sur cette page. \nParticipation libre et consciente sur place. \nPartagez cet évènement
URL:https://www.spiritualite-vivante.com/calendrier/meditation-a-chavagnac-9/
LOCATION:Chavagnac\, le pouch\, 24120
CATEGORIES:Méditation
ATTACH;FMTTYPE=image/png:https://www.spiritualite-vivante.com/wp-content/uploads/2020/05/imageonline-co-resizedimage-87.png
ORGANIZER;CN="Rapha%C3%ABl%20Jacquelin":MAILTO:raphael@spiritualite-vivante.com
END:VEVENT
BEGIN:VEVENT
DTSTART;TZID=Europe/Paris:20200813T190000
DTEND;TZID=Europe/Paris:20200816T170000
DTSTAMP:20260423T064802
CREATED:20200503T223114Z
LAST-MODIFIED:20200612T092208Z
UID:10000057-1597345200-1597597200@www.spiritualite-vivante.com
SUMMARY:Retraite à Chavagnac de 3 jours
DESCRIPTION:Retraite en petit groupe. \nInscription sur cette page. Les modalités vous seront transmises par mail. \nPour me joindre pour tout renseignement complémentaire : \nContactPartagez cet évènement
URL:https://www.spiritualite-vivante.com/calendrier/retraite-a-chavagnac-de-3-jours/
LOCATION:Chavagnac\, le pouch\, 24120
CATEGORIES:Retraite spirituelle en Dordogne
ATTACH;FMTTYPE=image/png:https://www.spiritualite-vivante.com/wp-content/uploads/2020/05/imageonline-co-resizedimage-79.png
ORGANIZER;CN="Rapha%C3%ABl%20Jacquelin":MAILTO:raphael@spiritualite-vivante.com
END:VEVENT
BEGIN:VEVENT
DTSTART;TZID=Europe/Paris:20200811T183000
DTEND;TZID=Europe/Paris:20200811T200000
DTSTAMP:20260423T064802
CREATED:20200706T215612Z
LAST-MODIFIED:20200706T215947Z
UID:10000038-1597170600-1597176000@www.spiritualite-vivante.com
SUMMARY:Méditation à Chavagnac
DESCRIPTION:Cette méditation est proposée en petit groupe. Durée environ 1 h 30. \nMerci de vous inscrire sur cette page. \nParticipation libre et consciente sur place. \nPartagez cet évènement
URL:https://www.spiritualite-vivante.com/calendrier/meditation-a-chavagnac-8/
LOCATION:Cabinet\, Le pouch\, Chavagnac\, 24120
CATEGORIES:Méditation
ATTACH;FMTTYPE=image/png:https://www.spiritualite-vivante.com/wp-content/uploads/2020/05/imageonline-co-resizedimage-73.png
ORGANIZER;CN="Rapha%C3%ABl%20Jacquelin":MAILTO:raphael@spiritualite-vivante.com
END:VEVENT
BEGIN:VEVENT
DTSTART;TZID=Europe/Paris:20200809T100000
DTEND;TZID=Europe/Paris:20200809T180000
DTSTAMP:20260423T064802
CREATED:20200706T215421Z
LAST-MODIFIED:20200706T222711Z
UID:10000037-1596967200-1596996000@www.spiritualite-vivante.com
SUMMARY:Journée complète haptonomie
DESCRIPTION:Cette journée est consacrée au toucher de l’Être. L’haptonomie est par définition la science de l’affectivité. \nSuite à cette première partie d’année mouvementée\, je propose cette journée ouverte à tous\, dans l’intention de répondre aux besoin du groupe constitué. \nPlaces limitées : 8 personnes au maximum. \nDouceur\, accueil\, réconciliation\, intimité du coeur\, consolidation affective\, assise intérieure\, prendre soin sont aux programme de cette journée par l’approche et le toucher haptonomique\, ponctuée par une méditation\, des ateliers et des échanges. \nJe reste à votre disposition pour tout renseignement complémentaire sur la page contact
URL:https://www.spiritualite-vivante.com/calendrier/journee-complete-haptonomie/
LOCATION:Chavagnac\, le pouch\, 24120
CATEGORIES:Évènements particuliers
ATTACH;FMTTYPE=image/png:https://www.spiritualite-vivante.com/wp-content/uploads/2020/05/imageonline-co-resizedimage-82.png
ORGANIZER;CN="Rapha%C3%ABl%20Jacquelin":MAILTO:raphael@spiritualite-vivante.com
END:VEVENT
BEGIN:VEVENT
DTSTART;TZID=Europe/Paris:20200807T190000
DTEND;TZID=Europe/Paris:20200807T210000
DTSTAMP:20260423T064802
CREATED:20200706T213551Z
LAST-MODIFIED:20200805T183018Z
UID:10000036-1596826800-1596834000@www.spiritualite-vivante.com
SUMMARY:Satsang en vidéoconférence
DESCRIPTION:Ce Satsang est proposée en vidéoconférence sur le support zoom. Durée environ 2 heure. \nMerci d’effectuer votre inscription sur cette page. \nUn mail de confirmation d’inscription contenant le lien de connexion vous est envoyé suite à votre inscription. Merci de vérifier vos spam dans le cas où vous ne la recevez pas dans votre boite mail. \nPartagez cet évènement
URL:https://www.spiritualite-vivante.com/calendrier/satsang-en-videoconference-4/
LOCATION:Évènement en visioconférence
CATEGORIES:Satsang
ATTACH;FMTTYPE=image/png:https://www.spiritualite-vivante.com/wp-content/uploads/2020/05/imageonline-co-resizedimage-3.png
ORGANIZER;CN="Rapha%C3%ABl%20Jacquelin":MAILTO:raphael@spiritualite-vivante.com
END:VEVENT
BEGIN:VEVENT
DTSTART;TZID=Europe/Paris:20200805T183000
DTEND;TZID=Europe/Paris:20200805T200000
DTSTAMP:20260423T064802
CREATED:20200706T213310Z
LAST-MODIFIED:20200706T215827Z
UID:10000043-1596652200-1596657600@www.spiritualite-vivante.com
SUMMARY:Méditation à Chavagnac
DESCRIPTION:Cette méditation est proposée en petit groupe. Durée environ 1 h 30. \nMerci de vous inscrire sur cette page. \nParticipation libre et consciente sur place. \nPartagez cet évènement
URL:https://www.spiritualite-vivante.com/calendrier/meditation-a-chavagnac-7/
LOCATION:Cabinet\, Le pouch\, Chavagnac\, 24120
CATEGORIES:Méditation
ATTACH;FMTTYPE=image/png:https://www.spiritualite-vivante.com/wp-content/uploads/2020/05/imageonline-co-resizedimage-91.png
ORGANIZER;CN="Rapha%C3%ABl%20Jacquelin":MAILTO:raphael@spiritualite-vivante.com
END:VEVENT
BEGIN:VEVENT
DTSTART;TZID=Europe/Paris:20200730T190000
DTEND;TZID=Europe/Paris:20200802T170000
DTSTAMP:20260423T064802
CREATED:20200503T221656Z
LAST-MODIFIED:20200523T121415Z
UID:10000065-1596135600-1596387600@www.spiritualite-vivante.com
SUMMARY:Retraite à Chavagnac de 3 jours
DESCRIPTION:Retraite en petit groupe. \nInscription sur cette page. Les modalités vous seront transmises par mail. \nPour me joindre pour tout renseignement complémentaire : \nContactPartagez cet évènement
URL:https://www.spiritualite-vivante.com/calendrier/retraite-a-chavagnac-2/
LOCATION:Chavagnac\, le pouch\, 24120
CATEGORIES:Retraite spirituelle en Dordogne
ATTACH;FMTTYPE=image/png:https://www.spiritualite-vivante.com/wp-content/uploads/2020/05/imageonline-co-resizedimage-74.png
ORGANIZER;CN="Rapha%C3%ABl%20Jacquelin":MAILTO:raphael@spiritualite-vivante.com
END:VEVENT
BEGIN:VEVENT
DTSTART;TZID=Europe/Paris:20200628T100000
DTEND;TZID=Europe/Paris:20200628T173000
DTSTAMP:20260423T064802
CREATED:20200624T170245Z
LAST-MODIFIED:20200627T154447Z
UID:10000042-1593338400-1593365400@www.spiritualite-vivante.com
SUMMARY:Journée Satsang à Chavagnac
DESCRIPTION:Ce Satsang est proposé en petit groupe. Durée environ 4 h. \nMerci de vous inscrire sur cette page. \nLe règlement s’effectue sur place. \nPartagez cet évènement
URL:https://www.spiritualite-vivante.com/calendrier/journee-satsang-a-chavagnac/
LOCATION:Cabinet\, Le pouch\, Chavagnac\, 24120
CATEGORIES:Satsang
ATTACH;FMTTYPE=image/png:https://www.spiritualite-vivante.com/wp-content/uploads/2020/05/imageonline-co-resizedimage-90.png
ORGANIZER;CN="Rapha%C3%ABl%20Jacquelin":MAILTO:raphael@spiritualite-vivante.com
END:VEVENT
BEGIN:VEVENT
DTSTART;TZID=Europe/Paris:20200627T103000
DTEND;TZID=Europe/Paris:20200627T123000
DTSTAMP:20260423T064802
CREATED:20200624T170041Z
LAST-MODIFIED:20200624T170041Z
UID:10000041-1593253800-1593261000@www.spiritualite-vivante.com
SUMMARY:Satsang en vidéoconférence
DESCRIPTION:Ce Satsang est proposée en vidéoconférence sur le support zoom. Durée environ 2 heure. \nMerci d’effectuer votre inscription sur cette page. \nUn mail de confirmation d’inscription contenant le lien de connexion vous est envoyé suite à votre inscription. Merci de vérifier vos spam dans le cas où vous ne la recevez pas dans votre boite mail. \nPartagez cet évènement
URL:https://www.spiritualite-vivante.com/calendrier/satsang-en-videoconference-3/
LOCATION:Évènement en visioconférence
CATEGORIES:Satsang
ATTACH;FMTTYPE=image/png:https://www.spiritualite-vivante.com/wp-content/uploads/2020/04/img_1493-e1587652953627.png
ORGANIZER;CN="Rapha%C3%ABl%20Jacquelin":MAILTO:raphael@spiritualite-vivante.com
END:VEVENT
BEGIN:VEVENT
DTSTART;TZID=Europe/Paris:20200626T183000
DTEND;TZID=Europe/Paris:20200626T200000
DTSTAMP:20260423T064802
CREATED:20200624T165813Z
LAST-MODIFIED:20200624T165837Z
UID:10000040-1593196200-1593201600@www.spiritualite-vivante.com
SUMMARY:Méditation à Chavagnac
DESCRIPTION:Cette méditation est proposée en petit groupe. Durée environ 1 h 30. \nMerci de vous inscrire sur cette page. \nParticipation libre et consciente sur place. \nPartagez cet évènement
URL:https://www.spiritualite-vivante.com/calendrier/meditation-a-chavagnac-6/
LOCATION:Cabinet\, Le pouch\, Chavagnac\, 24120
CATEGORIES:Méditation
ATTACH;FMTTYPE=image/png:https://www.spiritualite-vivante.com/wp-content/uploads/2020/05/imageonline-co-resizedimage-10.png
ORGANIZER;CN="Rapha%C3%ABl%20Jacquelin":MAILTO:raphael@spiritualite-vivante.com
END:VEVENT
BEGIN:VEVENT
DTSTART;TZID=Europe/Paris:20200621T100000
DTEND;TZID=Europe/Paris:20200621T120000
DTSTAMP:20260423T064802
CREATED:20200617T145502Z
LAST-MODIFIED:20200617T150147Z
UID:10000048-1592733600-1592740800@www.spiritualite-vivante.com
SUMMARY:Satsang en vidéoconférence
DESCRIPTION:Ce Satsang est proposée en vidéoconférence sur le support zoom. Durée environ 2 heure. \nMerci d’effectuer votre inscription sur cette page. \nUn mail de confirmation d’inscription contenant le lien de connexion vous est envoyé suite à votre inscription. Merci de vérifier vos spam dans le cas où vous ne la recevez pas dans votre boite mail. \nPartagez cet évènement
URL:https://www.spiritualite-vivante.com/calendrier/satsang-en-videoconference-2/
LOCATION:Évènement en visioconférence
CATEGORIES:Satsang
ATTACH;FMTTYPE=image/png:https://www.spiritualite-vivante.com/wp-content/uploads/2020/05/imageonline-co-resizedimage-9.png
ORGANIZER;CN="Rapha%C3%ABl%20Jacquelin":MAILTO:raphael@spiritualite-vivante.com
END:VEVENT
BEGIN:VEVENT
DTSTART;TZID=Europe/Paris:20200619T183000
DTEND;TZID=Europe/Paris:20200619T200000
DTSTAMP:20260423T064802
CREATED:20200617T144944Z
LAST-MODIFIED:20200617T150322Z
UID:10000047-1592591400-1592596800@www.spiritualite-vivante.com
SUMMARY:Méditation à Chavagnac
DESCRIPTION:Cette méditation est proposée en petit groupe. Durée environ 1 h 30. \nMerci de vous inscrire sur cette page. \nParticipation libre et consciente sur place. \nPartagez cet évènement
URL:https://www.spiritualite-vivante.com/calendrier/meditation-a-chavagnac-5/
LOCATION:Chavagnac\, le pouch\, 24120
CATEGORIES:Méditation
ATTACH;FMTTYPE=image/jpeg:https://www.spiritualite-vivante.com/wp-content/uploads/2020/05/beach-1867285_960_720.jpg
ORGANIZER;CN="Rapha%C3%ABl%20Jacquelin":MAILTO:raphael@spiritualite-vivante.com
END:VEVENT
BEGIN:VEVENT
DTSTART;TZID=Europe/Paris:20200614T140000
DTEND;TZID=Europe/Paris:20200614T180000
DTSTAMP:20260423T064802
CREATED:20200609T182747Z
LAST-MODIFIED:20200609T182747Z
UID:10000046-1592143200-1592157600@www.spiritualite-vivante.com
SUMMARY:Satsang à Chavagnac
DESCRIPTION:Ce Satsang est proposé en petit groupe. Durée environ 4 h. \nMerci de vous inscrire sur cette page. \nLe règlement s’effectue sur place. \nPartagez cet évènement
URL:https://www.spiritualite-vivante.com/calendrier/satsang-a-chavagnac-4/
LOCATION:Chavagnac\, le pouch\, 24120
CATEGORIES:Satsang
ATTACH;FMTTYPE=image/png:https://www.spiritualite-vivante.com/wp-content/uploads/2020/05/imageonline-co-resizedimage-5.png
ORGANIZER;CN="Rapha%C3%ABl%20Jacquelin":MAILTO:raphael@spiritualite-vivante.com
END:VEVENT
BEGIN:VEVENT
DTSTART;TZID=Europe/Paris:20200612T183000
DTEND;TZID=Europe/Paris:20200612T200000
DTSTAMP:20260423T064802
CREATED:20200609T182605Z
LAST-MODIFIED:20200609T182812Z
UID:10000045-1591986600-1591992000@www.spiritualite-vivante.com
SUMMARY:Méditation à Chavagnac
DESCRIPTION:Cette méditation est proposée en petit groupe. Durée environ 1 h 30. \nMerci de vous inscrire sur cette page. \nParticipation libre et consciente sur place. \nPartagez cet évènement
URL:https://www.spiritualite-vivante.com/calendrier/meditation-a-chavagnac-4/
LOCATION:Chavagnac\, le pouch\, 24120
CATEGORIES:Méditation
ATTACH;FMTTYPE=image/png:https://www.spiritualite-vivante.com/wp-content/uploads/2020/05/imageonline-co-resizedimage-93.png
ORGANIZER;CN="Rapha%C3%ABl%20Jacquelin":MAILTO:raphael@spiritualite-vivante.com
END:VEVENT
BEGIN:VEVENT
DTSTART;TZID=Europe/Paris:20200611T100000
DTEND;TZID=Europe/Paris:20200611T120000
DTSTAMP:20260423T064802
CREATED:20200609T182348Z
LAST-MODIFIED:20200609T182348Z
UID:10000055-1591869600-1591876800@www.spiritualite-vivante.com
SUMMARY:Satsang en vidéoconférence
DESCRIPTION:Ce Satsang est proposée en vidéoconférence sur le support zoom. Durée environ 2 heure. \nMerci d’effectuer votre inscription sur cette page\, le lien vous sera envoyé par mail. A bientôt ! \nPartagez cet évènement
URL:https://www.spiritualite-vivante.com/calendrier/satsang-en-videoconference/
LOCATION:Chavagnac\, le pouch\, 24120
CATEGORIES:Satsang
ATTACH;FMTTYPE=image/png:https://www.spiritualite-vivante.com/wp-content/uploads/2020/05/imageonline-co-resizedimage-6.png
ORGANIZER;CN="Rapha%C3%ABl%20Jacquelin":MAILTO:raphael@spiritualite-vivante.com
END:VEVENT
BEGIN:VEVENT
DTSTART;TZID=Europe/Paris:20200607T140000
DTEND;TZID=Europe/Paris:20200607T180000
DTSTAMP:20260423T064802
CREATED:20200603T162322Z
LAST-MODIFIED:20200609T182843Z
UID:10000053-1591538400-1591552800@www.spiritualite-vivante.com
SUMMARY:Satsang à Chavagnac
DESCRIPTION:Ce Satsang est proposé en petit groupe. Durée environ 4 h. \nMerci de vous inscrire sur cette page. \nLe règlement s’effectue sur place. \nÀ très bientôt ! \nPartagez cet évènement
URL:https://www.spiritualite-vivante.com/calendrier/satsang-a-chavagnac-3/
LOCATION:Chavagnac\, le pouch\, 24120
CATEGORIES:Satsang
ATTACH;FMTTYPE=image/png:https://www.spiritualite-vivante.com/wp-content/uploads/2020/05/imageonline-co-resizedimage-12.png
ORGANIZER;CN="Rapha%C3%ABl%20Jacquelin":MAILTO:raphael@spiritualite-vivante.com
END:VEVENT
BEGIN:VEVENT
DTSTART;TZID=Europe/Paris:20200605T183000
DTEND;TZID=Europe/Paris:20200605T200000
DTSTAMP:20260423T064802
CREATED:20200603T162032Z
LAST-MODIFIED:20200605T170928Z
UID:10000051-1591381800-1591387200@www.spiritualite-vivante.com
SUMMARY:Méditation à Chavagnac
DESCRIPTION:Cette méditation est proposée en petit groupe. Durée environ 1 h 30. \nMerci de vous inscrire sur cette page. \nParticipation libre et consciente sur place. \nPartagez cet évènement
URL:https://www.spiritualite-vivante.com/calendrier/meditation-a-chavagnac-3/
LOCATION:Chavagnac\, le pouch\, 24120
CATEGORIES:Méditation
ATTACH;FMTTYPE=image/png:https://www.spiritualite-vivante.com/wp-content/uploads/2020/05/imageonline-co-resizedimage-5.png
ORGANIZER;CN="Rapha%C3%ABl%20Jacquelin":MAILTO:raphael@spiritualite-vivante.com
END:VEVENT
BEGIN:VEVENT
DTSTART;TZID=Europe/Paris:20200527T183000
DTEND;TZID=Europe/Paris:20200527T200000
DTSTAMP:20260423T064802
CREATED:20200526T130201Z
LAST-MODIFIED:20200526T130241Z
UID:10000050-1590604200-1590609600@www.spiritualite-vivante.com
SUMMARY:Méditation à Chavagnac
DESCRIPTION:Cette méditation est proposée en petit groupe. Durée environ 1 h 30. \nMerci de vous inscrire sur cette page. \nParticipation libre et consciente sur place. \nPartagez cet évènement
URL:https://www.spiritualite-vivante.com/calendrier/meditation-a-chavagnac-2/
LOCATION:Chavagnac\, le pouch\, 24120
CATEGORIES:Méditation
ATTACH;FMTTYPE=image/png:https://www.spiritualite-vivante.com/wp-content/uploads/2020/05/imageonline-co-resizedimage-88.png
ORGANIZER;CN="Rapha%C3%ABl%20Jacquelin":MAILTO:raphael@spiritualite-vivante.com
END:VEVENT
BEGIN:VEVENT
DTSTART;TZID=Europe/Paris:20200524T140000
DTEND;TZID=Europe/Paris:20200524T180000
DTSTAMP:20260423T064802
CREATED:20200517T210734Z
LAST-MODIFIED:20200523T120451Z
UID:10000060-1590328800-1590343200@www.spiritualite-vivante.com
SUMMARY:Satsang à Chavagnac
DESCRIPTION:Ce Satsang est proposé en petit groupe. Durée environ 4 h. \nMerci de vous inscrire sur cette page. \nLe règlement s’effectue sur place. \nPartagez cet évènement
URL:https://www.spiritualite-vivante.com/calendrier/satsang-a-chavagnac-2/
LOCATION:Chavagnac\, le pouch\, 24120
CATEGORIES:Satsang
ATTACH;FMTTYPE=image/png:https://www.spiritualite-vivante.com/wp-content/uploads/2020/05/imageonline-co-resizedimage-76.png
ORGANIZER;CN="Rapha%C3%ABl%20Jacquelin":MAILTO:raphael@spiritualite-vivante.com
END:VEVENT
BEGIN:VEVENT
DTSTART;TZID=Europe/Paris:20200521T100000
DTEND;TZID=Europe/Paris:20200521T123000
DTSTAMP:20260423T064802
CREATED:20200517T210438Z
LAST-MODIFIED:20200523T120241Z
UID:10000059-1590055200-1590064200@www.spiritualite-vivante.com
SUMMARY:Satsang à Chavagnac
DESCRIPTION:Ce Satsang est proposé en petit groupe. Durée environ 2h30. \nMerci de vous inscrire sur cette page. \nLe règlement s’effectue sur place. \nPartagez cet évènement
URL:https://www.spiritualite-vivante.com/calendrier/satsang-a-chavagnac/
LOCATION:Chavagnac\, le pouch\, 24120
CATEGORIES:Satsang
ATTACH;FMTTYPE=image/png:https://www.spiritualite-vivante.com/wp-content/uploads/2020/05/imageonline-co-resizedimage-75.png
ORGANIZER;CN="Rapha%C3%ABl%20Jacquelin":MAILTO:raphael@spiritualite-vivante.com
END:VEVENT
BEGIN:VEVENT
DTSTART;TZID=Europe/Paris:20200520T183000
DTEND;TZID=Europe/Paris:20200520T200000
DTSTAMP:20260423T064802
CREATED:20200517T205748Z
LAST-MODIFIED:20200520T120427Z
UID:10000058-1589999400-1590004800@www.spiritualite-vivante.com
SUMMARY:Méditation à Chavagnac
DESCRIPTION:Cette méditation est proposée en petit groupe. Durée environ 1 h 30. \nMerci de vous inscrire sur cette page. \nParticipation libre et consciente sur place. \nPartagez cet évènement
URL:https://www.spiritualite-vivante.com/calendrier/meditation-a-chavagnac/
LOCATION:Chavagnac\, le pouch\, 24120
CATEGORIES:Méditation
ATTACH;FMTTYPE=image/png:https://www.spiritualite-vivante.com/wp-content/uploads/2020/05/imageonline-co-resizedimage-82.png
ORGANIZER;CN="Rapha%C3%ABl%20Jacquelin":MAILTO:raphael@spiritualite-vivante.com
END:VEVENT
END:VCALENDAR