BEGIN:VCALENDAR
VERSION:2.0
PRODID:-//Spiritualité Vivante - ECPv6.0.6.2//NONSGML v1.0//EN
CALSCALE:GREGORIAN
METHOD:PUBLISH
X-ORIGINAL-URL:https://www.spiritualite-vivante.com
X-WR-CALDESC:Events for Spiritualité Vivante
REFRESH-INTERVAL;VALUE=DURATION:PT1H
X-Robots-Tag:noindex
X-PUBLISHED-TTL:PT1H
BEGIN:VTIMEZONE
TZID:Europe/Paris
BEGIN:DAYLIGHT
TZOFFSETFROM:+0100
TZOFFSETTO:+0200
TZNAME:CEST
DTSTART:20200329T010000
END:DAYLIGHT
BEGIN:STANDARD
TZOFFSETFROM:+0200
TZOFFSETTO:+0100
TZNAME:CET
DTSTART:20201025T010000
END:STANDARD
END:VTIMEZONE
BEGIN:VEVENT
DTSTART;TZID=Europe/Paris:20200605T183000
DTEND;TZID=Europe/Paris:20200605T200000
DTSTAMP:20260423T101116
CREATED:20200603T162032Z
LAST-MODIFIED:20200605T170928Z
UID:10000051-1591381800-1591387200@www.spiritualite-vivante.com
SUMMARY:Méditation à Chavagnac
DESCRIPTION:Cette méditation est proposée en petit groupe. Durée environ 1 h 30. \nMerci de vous inscrire sur cette page. \nParticipation libre et consciente sur place. \nPartagez cet évènement
URL:https://www.spiritualite-vivante.com/calendrier/meditation-a-chavagnac-3/
LOCATION:Chavagnac\, le pouch\, 24120
CATEGORIES:Méditation
ATTACH;FMTTYPE=image/png:https://www.spiritualite-vivante.com/wp-content/uploads/2020/05/imageonline-co-resizedimage-5.png
ORGANIZER;CN="Rapha%C3%ABl%20Jacquelin":MAILTO:raphael@spiritualite-vivante.com
END:VEVENT
BEGIN:VEVENT
DTSTART;TZID=Europe/Paris:20200527T183000
DTEND;TZID=Europe/Paris:20200527T200000
DTSTAMP:20260423T101116
CREATED:20200526T130201Z
LAST-MODIFIED:20200526T130241Z
UID:10000050-1590604200-1590609600@www.spiritualite-vivante.com
SUMMARY:Méditation à Chavagnac
DESCRIPTION:Cette méditation est proposée en petit groupe. Durée environ 1 h 30. \nMerci de vous inscrire sur cette page. \nParticipation libre et consciente sur place. \nPartagez cet évènement
URL:https://www.spiritualite-vivante.com/calendrier/meditation-a-chavagnac-2/
LOCATION:Chavagnac\, le pouch\, 24120
CATEGORIES:Méditation
ATTACH;FMTTYPE=image/png:https://www.spiritualite-vivante.com/wp-content/uploads/2020/05/imageonline-co-resizedimage-88.png
ORGANIZER;CN="Rapha%C3%ABl%20Jacquelin":MAILTO:raphael@spiritualite-vivante.com
END:VEVENT
BEGIN:VEVENT
DTSTART;TZID=Europe/Paris:20200524T140000
DTEND;TZID=Europe/Paris:20200524T180000
DTSTAMP:20260423T101116
CREATED:20200517T210734Z
LAST-MODIFIED:20200523T120451Z
UID:10000060-1590328800-1590343200@www.spiritualite-vivante.com
SUMMARY:Satsang à Chavagnac
DESCRIPTION:Ce Satsang est proposé en petit groupe. Durée environ 4 h. \nMerci de vous inscrire sur cette page. \nLe règlement s’effectue sur place. \nPartagez cet évènement
URL:https://www.spiritualite-vivante.com/calendrier/satsang-a-chavagnac-2/
LOCATION:Chavagnac\, le pouch\, 24120
CATEGORIES:Satsang
ATTACH;FMTTYPE=image/png:https://www.spiritualite-vivante.com/wp-content/uploads/2020/05/imageonline-co-resizedimage-76.png
ORGANIZER;CN="Rapha%C3%ABl%20Jacquelin":MAILTO:raphael@spiritualite-vivante.com
END:VEVENT
BEGIN:VEVENT
DTSTART;TZID=Europe/Paris:20200521T100000
DTEND;TZID=Europe/Paris:20200521T123000
DTSTAMP:20260423T101116
CREATED:20200517T210438Z
LAST-MODIFIED:20200523T120241Z
UID:10000059-1590055200-1590064200@www.spiritualite-vivante.com
SUMMARY:Satsang à Chavagnac
DESCRIPTION:Ce Satsang est proposé en petit groupe. Durée environ 2h30. \nMerci de vous inscrire sur cette page. \nLe règlement s’effectue sur place. \nPartagez cet évènement
URL:https://www.spiritualite-vivante.com/calendrier/satsang-a-chavagnac/
LOCATION:Chavagnac\, le pouch\, 24120
CATEGORIES:Satsang
ATTACH;FMTTYPE=image/png:https://www.spiritualite-vivante.com/wp-content/uploads/2020/05/imageonline-co-resizedimage-75.png
ORGANIZER;CN="Rapha%C3%ABl%20Jacquelin":MAILTO:raphael@spiritualite-vivante.com
END:VEVENT
BEGIN:VEVENT
DTSTART;TZID=Europe/Paris:20200520T183000
DTEND;TZID=Europe/Paris:20200520T200000
DTSTAMP:20260423T101116
CREATED:20200517T205748Z
LAST-MODIFIED:20200520T120427Z
UID:10000058-1589999400-1590004800@www.spiritualite-vivante.com
SUMMARY:Méditation à Chavagnac
DESCRIPTION:Cette méditation est proposée en petit groupe. Durée environ 1 h 30. \nMerci de vous inscrire sur cette page. \nParticipation libre et consciente sur place. \nPartagez cet évènement
URL:https://www.spiritualite-vivante.com/calendrier/meditation-a-chavagnac/
LOCATION:Chavagnac\, le pouch\, 24120
CATEGORIES:Méditation
ATTACH;FMTTYPE=image/png:https://www.spiritualite-vivante.com/wp-content/uploads/2020/05/imageonline-co-resizedimage-82.png
ORGANIZER;CN="Rapha%C3%ABl%20Jacquelin":MAILTO:raphael@spiritualite-vivante.com
END:VEVENT
END:VCALENDAR